BEGIN:VCALENDAR
VERSION:2.0
PRODID:-// - ECPv6.15.16.1//NONSGML v1.0//EN
CALSCALE:GREGORIAN
METHOD:PUBLISH
X-ORIGINAL-URL:https://cedesve.com
X-WR-CALDESC:Eventos para 
REFRESH-INTERVAL;VALUE=DURATION:PT1H
X-Robots-Tag:noindex
X-PUBLISHED-TTL:PT1H
BEGIN:VTIMEZONE
TZID:UTC
BEGIN:STANDARD
TZOFFSETFROM:+0000
TZOFFSETTO:+0000
TZNAME:UTC
DTSTART:20240101T000000
END:STANDARD
END:VTIMEZONE
BEGIN:VEVENT
DTSTART;TZID=UTC:20251029T120000
DTEND;TZID=UTC:20251029T140000
DTSTAMP:20260424T010109
CREATED:20251028T012353Z
LAST-MODIFIED:20251028T014641Z
UID:5410-1761739200-1761746400@cedesve.com
SUMMARY:Conversa virtual con Antonio La Piccirella
DESCRIPTION:El conversatorio virtual con Antonio La Piccirella\, organizador/participante de la Global Sumud Flotilla\, se estará realizando el miércoles 29 de octubre de 2025 a las 12 del mediodía en la Sala de Lectura de la Escuela de Historia de la UCV.\nLes esperamos.
URL:https://cedesve.com/event/conversa-virtual-con-antonio-la-piccirella-2/
ATTACH;FMTTYPE=image/jpeg:https://cedesve.com/wp-content/uploads/2025/10/WhatsApp-Image-2025-10-24-at-7.43.06-PM.jpeg
END:VEVENT
END:VCALENDAR