BEGIN:VCALENDAR
VERSION:2.0
PRODID:-// - ECPv6.15.16.1//NONSGML v1.0//EN
CALSCALE:GREGORIAN
METHOD:PUBLISH
X-ORIGINAL-URL:https://cedesve.com
X-WR-CALDESC:Eventos para 
REFRESH-INTERVAL;VALUE=DURATION:PT1H
X-Robots-Tag:noindex
X-PUBLISHED-TTL:PT1H
BEGIN:VTIMEZONE
TZID:UTC
BEGIN:STANDARD
TZOFFSETFROM:+0000
TZOFFSETTO:+0000
TZNAME:UTC
DTSTART:20240101T000000
END:STANDARD
END:VTIMEZONE
BEGIN:VEVENT
DTSTART;TZID=UTC:20251030T100000
DTEND;TZID=UTC:20251030T120000
DTSTAMP:20260424T010109
CREATED:20251028T020853Z
LAST-MODIFIED:20251028T020853Z
UID:5420-1761818400-1761825600@cedesve.com
SUMMARY:#Conferencia: La agresión militar contra Venezuela
DESCRIPTION:Les invitamos a la conferencia «La agresión militar contra Venezuela. Contexto geopolítico»\, por Elías Jaua Milano\, este jueves 30 de octubre de 2025 a las 10 am. \nDirección: Escuela de Formación Obrera Priscila López. Calle Negro Primero\, casa número 98. Frente al Liceo Valentín Espinal. Maracay\, estado Aragua. \nLes esperamos
URL:https://cedesve.com/event/conferencia-la-agresion-militar-contra-venezuela/
ATTACH;FMTTYPE=image/jpeg:https://cedesve.com/wp-content/uploads/2025/10/WhatsApp-Image-2025-10-24-at-7.43.05-PM.jpeg
END:VEVENT
BEGIN:VEVENT
DTSTART;TZID=UTC:20251030T160000
DTEND;TZID=UTC:20251030T180000
DTSTAMP:20260424T010109
CREATED:20251028T015519Z
LAST-MODIFIED:20251028T015526Z
UID:5415-1761840000-1761847200@cedesve.com
SUMMARY:Otilio Galíndez: Vida y obra
DESCRIPTION:Les invitamos a una nueva jornada de nuestro Seminario permanente Tradición de pensamiento Lo afirmativo nacional: «Otilio Galíndez: vida y obra»\, con el actor Simón Áñez\, el poeta Pedro Ruiz\, el maestro José Jesús Guevara\, el artista plástico Antonio Cabezas\, la cantautora Yadira Pirela y la cantora Camila Rada\, este jueves 30 de octubre de 2025 a las 4 pm. \nDirección: Café Cultural Caramba. Parque de Ferias San Jacinto. Maracay\, estado Aragua. \nLes esperamos
URL:https://cedesve.com/event/otilio-galindez-vida-y-obra/
ATTACH;FMTTYPE=image/jpeg:https://cedesve.com/wp-content/uploads/2025/10/WhatsApp-Image-2025-10-24-at-7.43.06-PM-1.jpeg
END:VEVENT
END:VCALENDAR