BEGIN:VCALENDAR
VERSION:2.0
PRODID:-// - ECPv6.15.16.1//NONSGML v1.0//EN
CALSCALE:GREGORIAN
METHOD:PUBLISH
X-ORIGINAL-URL:https://cedesve.com
X-WR-CALDESC:Eventos para 
REFRESH-INTERVAL;VALUE=DURATION:PT1H
X-Robots-Tag:noindex
X-PUBLISHED-TTL:PT1H
BEGIN:VTIMEZONE
TZID:UTC
BEGIN:STANDARD
TZOFFSETFROM:+0000
TZOFFSETTO:+0000
TZNAME:UTC
DTSTART:20240101T000000
END:STANDARD
END:VTIMEZONE
BEGIN:VEVENT
DTSTART;TZID=UTC:20251117T160000
DTEND;TZID=UTC:20251117T180000
DTSTAMP:20260424T010109
CREATED:20251112T193017Z
LAST-MODIFIED:20251112T193017Z
UID:5611-1763395200-1763402400@cedesve.com
SUMMARY:#CONFERENCIA: Juan Bautista Fuenmayor
DESCRIPTION:Les invitamos a la conferencia «Juan Bautista Fuenmayor y la interpretación marxista del siglo XX venezolano»\, por Marcos Fuenmayor Contreras\, este lunes 17 de noviembre de 2025 a las 4 pm.\nSeminario permanente «Tradición del pensamiento socialista en Venezuela».
URL:https://cedesve.com/event/bad-bunny-en-las-entranas-del-monstruo-2/
ATTACH;FMTTYPE=image/jpeg:https://cedesve.com/wp-content/uploads/2025/11/WhatsApp-Image-2025-11-12-at-12.12.39-PM.jpeg
END:VEVENT
END:VCALENDAR