BEGIN:VCALENDAR
VERSION:2.0
PRODID:-// - ECPv6.15.16.1//NONSGML v1.0//EN
CALSCALE:GREGORIAN
METHOD:PUBLISH
X-ORIGINAL-URL:https://cedesve.com
X-WR-CALDESC:Eventos para 
REFRESH-INTERVAL;VALUE=DURATION:PT1H
X-Robots-Tag:noindex
X-PUBLISHED-TTL:PT1H
BEGIN:VTIMEZONE
TZID:UTC
BEGIN:STANDARD
TZOFFSETFROM:+0000
TZOFFSETTO:+0000
TZNAME:UTC
DTSTART:20250101T000000
END:STANDARD
END:VTIMEZONE
BEGIN:VEVENT
DTSTART;TZID=UTC:20260306T160000
DTEND;TZID=UTC:20260306T180000
DTSTAMP:20260423T190009
CREATED:20260305T182255Z
LAST-MODIFIED:20260305T182255Z
UID:7678-1772812800-1772820000@cedesve.com
SUMMARY:#CINE: Eddington (2025\, 145 min.)
DESCRIPTION:Les invitamos a acompañarnos a la cuarta y penúltima jornada del Ciclo de cine/conversa «Estados Unidos en tiempos de Trump». \n– Viernes 6 marzo 2026\nEddington (2025\, 145 min.)\, de Ari Aster. \nHORA: 4 PM – ENTRADA LIBRE \nLa Florida\, Avenida Los Pinos con calle Las Pomagas\, casa número 4.\nMetrobús ruta 302: Sabana Grande – La Florida. Salida: Avenida Solano. Llegada: Los Pinos.
URL:https://cedesve.com/event/situacion-de-los-derechos-laborales-de-mujeres-y-jovenes-2/
ATTACH;FMTTYPE=image/jpeg:https://cedesve.com/wp-content/uploads/2026/03/WhatsApp-Image-2026-03-05-at-9.05.28-AM.jpeg
END:VEVENT
END:VCALENDAR