BEGIN:VCALENDAR
VERSION:2.0
PRODID:-// - ECPv6.15.16.1//NONSGML v1.0//EN
CALSCALE:GREGORIAN
METHOD:PUBLISH
X-ORIGINAL-URL:https://cedesve.com
X-WR-CALDESC:Eventos para 
REFRESH-INTERVAL;VALUE=DURATION:PT1H
X-Robots-Tag:noindex
X-PUBLISHED-TTL:PT1H
BEGIN:VTIMEZONE
TZID:UTC
BEGIN:STANDARD
TZOFFSETFROM:+0000
TZOFFSETTO:+0000
TZNAME:UTC
DTSTART:20240101T000000
END:STANDARD
END:VTIMEZONE
BEGIN:VEVENT
DTSTART;TZID=UTC:20260410T160000
DTEND;TZID=UTC:20260410T170000
DTSTAMP:20260423T160436
CREATED:20260409T210315Z
LAST-MODIFIED:20260409T210315Z
UID:8367-1775836800-1775840400@cedesve.com
SUMMARY:#CINE: Mirar el mundo a través del cine iraní
DESCRIPTION:Les invitamos a la conferencia «One Piece: una historia sobre libertad\, justicia y poder»\, con Natalia Jaua Castillo y Franco Zapata\, este viernes 10 de abril de 2026 a las 4 pm.
URL:https://cedesve.com/event/cine-mirar-el-mundo-a-traves-del-cine-irani/
ATTACH;FMTTYPE=image/jpeg:https://cedesve.com/wp-content/uploads/2026/04/WhatsApp-Image-2026-04-08-at-2.48.54-PM.jpeg
END:VEVENT
BEGIN:VEVENT
DTSTART;TZID=UTC:20260314T160000
DTEND;TZID=UTC:20260314T180000
DTSTAMP:20260423T160436
CREATED:20260314T172446Z
LAST-MODIFIED:20260314T172446Z
UID:7892-1773504000-1773511200@cedesve.com
SUMMARY:#CINE: Sur (1988\, 127 min.)\, de Fernando Pino Solanas
DESCRIPTION:Les invitamos a acompañarnos a la segunda proyección del Ciclo «50 años del golpe de Estado en Argentina». \n– Sábado 14 marzo 2026\nSur (1988\, 127 min.)\, de Fernando Pino Solanas. \nHORA: 4 PM – ENTRADA LIBRE \nLa Florida\, Avenida Los Pinos con calle Las Pomagas\, casa número 4.\nMetrobús ruta 302: Sabana Grande – La Florida. Salida: Avenida Solano. Llegada: Los Pinos.
URL:https://cedesve.com/event/cine-sur-1988-127-min-de-fernando-pino-solanas/
ATTACH;FMTTYPE=image/jpeg:https://cedesve.com/wp-content/uploads/2026/03/WhatsApp-Image-2026-03-14-at-12.12.37-PM.jpeg
END:VEVENT
BEGIN:VEVENT
DTSTART;TZID=UTC:20260306T160000
DTEND;TZID=UTC:20260306T180000
DTSTAMP:20260423T160436
CREATED:20260305T182255Z
LAST-MODIFIED:20260305T182255Z
UID:7678-1772812800-1772820000@cedesve.com
SUMMARY:#CINE: Eddington (2025\, 145 min.)
DESCRIPTION:Les invitamos a acompañarnos a la cuarta y penúltima jornada del Ciclo de cine/conversa «Estados Unidos en tiempos de Trump». \n– Viernes 6 marzo 2026\nEddington (2025\, 145 min.)\, de Ari Aster. \nHORA: 4 PM – ENTRADA LIBRE \nLa Florida\, Avenida Los Pinos con calle Las Pomagas\, casa número 4.\nMetrobús ruta 302: Sabana Grande – La Florida. Salida: Avenida Solano. Llegada: Los Pinos.
URL:https://cedesve.com/event/situacion-de-los-derechos-laborales-de-mujeres-y-jovenes-2/
ATTACH;FMTTYPE=image/jpeg:https://cedesve.com/wp-content/uploads/2026/03/WhatsApp-Image-2026-03-05-at-9.05.28-AM.jpeg
END:VEVENT
BEGIN:VEVENT
DTSTART;TZID=UTC:20260304T150000
DTEND;TZID=UTC:20260304T180000
DTSTAMP:20260423T160436
CREATED:20260305T180945Z
LAST-MODIFIED:20260305T181256Z
UID:7662-1772636400-1772647200@cedesve.com
SUMMARY:Situación de los derechos laborales de mujeres y jóvenes
DESCRIPTION:Les invitamos al foro híbrido “Situación de los derechos laborales de mujeres y jóvenes en las empresas privadas-sector comercio. Una mirada desde la investigación-acción del Observatorio por la Dignidad en el Trabajo”. Miércoles 4 de marzo de 2026 a las 3 pm.\nLugar: La Florida\, Avenida Los Pinos con calle Las Pomagas\, casa número 4.\nMetrobús Ruta 302: Sabana Grande – La Florida. Salida: Avenida Solano. Llegada: Los Pinos.\nConexión en línea: https://us06web.zoom.us/j/85244661808?pwd=1jkNXEYrdKkVgAYQK5abOM1yAwt6q2.1\nID de reunión 852 4466 1808. Clave de acceso 842973
URL:https://cedesve.com/event/situacion-de-los-derechos-laborales-de-mujeres-y-jovenes/
ATTACH;FMTTYPE=image/jpeg:https://cedesve.com/wp-content/uploads/2026/03/WhatsApp-Image-2026-02-28-at-6.01.51-PM.jpeg
END:VEVENT
BEGIN:VEVENT
DTSTART;TZID=UTC:20260227T160000
DTEND;TZID=UTC:20260227T180000
DTSTAMP:20260423T160436
CREATED:20260227T013735Z
LAST-MODIFIED:20260227T013735Z
UID:7313-1772208000-1772215200@cedesve.com
SUMMARY:#CINE: Suaves y discretas
DESCRIPTION:Les invitamos a acompañarnos a la tercera jornada del Ciclo de cine/conversa «Estados Unidos en tiempos de Trump». \n– Viernes 27 febrero 2026\nSuaves y discretas (Soft & Quiet) (2022\, 92 min.)\, de Beth de Araújo. \nHORA: 4 PM – ENTRADA LIBRE \nLa Florida\, Avenida Los Pinos con calle Las Pomagas\, casa número 4.\nMetrobús ruta 302: Sabana Grande – La Florida. Salida: Avenida Solano. Llegada: Los Pinos.
URL:https://cedesve.com/event/cine-suaves-y-discretas/
ATTACH;FMTTYPE=image/jpeg:https://cedesve.com/wp-content/uploads/2026/02/WhatsApp-Image-2026-02-26-at-4.32.33-PM.jpeg
END:VEVENT
BEGIN:VEVENT
DTSTART;TZID=UTC:20260226T170000
DTEND;TZID=UTC:20260226T190000
DTSTAMP:20260423T160436
CREATED:20260224T204555Z
LAST-MODIFIED:20260224T204555Z
UID:7174-1772125200-1772132400@cedesve.com
SUMMARY:#CONFERENCIA: República: tradición y teoría
DESCRIPTION:Les invitamos a la conferencia «República: tradición y teoría»\, por el Doctor Fernando Falcón Veloz\, Individuo de Número de la Academia Nacional de la Historia y profesor de la UCV\, este jueves 26 de febrero de 2026 a las 5 pm.
URL:https://cedesve.com/event/conferencia-republica-tradicion-y-teoria/
ATTACH;FMTTYPE=image/jpeg:https://cedesve.com/wp-content/uploads/2026/02/WhatsApp-Image-2026-02-24-at-7.45.12-AM.jpeg
END:VEVENT
BEGIN:VEVENT
DTSTART;TZID=UTC:20260213T160000
DTEND;TZID=UTC:20260213T180000
DTSTAMP:20260423T160436
CREATED:20260212T205254Z
LAST-MODIFIED:20260212T205254Z
UID:6917-1770998400-1771005600@cedesve.com
SUMMARY:#CINE: Proyecto Florida
DESCRIPTION:Les invitamos a acompañarnos a la primera jornada del Ciclo de cine/conversa «Estados Unidos en tiempos de Trump». \n– Viernes 13 febrero 2026\nProyecto Florida (The Florida Project) (2017\, 111 min.)\, de Sean Baker. \nHORA: 4 PM – ENTRADA LIBRE \nLa Florida\, Avenida Los Pinos con calle Las Pomagas\, casa número 4.\nMetrobús ruta 302: Sabana Grande – La Florida. Salida: Avenida Solano. Llegada: Los Pinos.
URL:https://cedesve.com/event/cine-1992-el-des-cubrimiento-jugar-o-ser-jugados-2/
ATTACH;FMTTYPE=image/jpeg:https://cedesve.com/wp-content/uploads/2026/02/WhatsApp-Image-2026-02-12-at-4.07.39-PM.jpeg
END:VEVENT
BEGIN:VEVENT
DTSTART;TZID=UTC:20260205T160000
DTEND;TZID=UTC:20260205T180000
DTSTAMP:20260423T160436
CREATED:20260204T204947Z
LAST-MODIFIED:20260204T204947Z
UID:6809-1770307200-1770314400@cedesve.com
SUMMARY:#CINE: 1992: el des-cubrimiento (jugar o ser jugados)
DESCRIPTION:Cine/conversa\n34 años de la rebelión cívico-militar del 4F de 1992.\nProyección del documental: «1992: el des-cubrimiento (jugar o ser jugados)» (1993\, 28 min.)\, de Liliane Blaser.\nConversa: Elías Jaua Milano y Liliane Blaser.\nJueves 5 de febrero de 2026 a las 4 pm.\nEntrada libre
URL:https://cedesve.com/event/cine-1992-el-des-cubrimiento-jugar-o-ser-jugados/
ATTACH;FMTTYPE=image/jpeg:https://cedesve.com/wp-content/uploads/2026/02/WhatsApp-Image-2026-02-03-at-8.38.21-PM.jpeg
END:VEVENT
BEGIN:VEVENT
DTSTART;TZID=UTC:20260204T160000
DTEND;TZID=UTC:20260204T180000
DTSTAMP:20260423T160436
CREATED:20260201T040555Z
LAST-MODIFIED:20260201T040555Z
UID:6733-1770220800-1770228000@cedesve.com
SUMMARY:#CONFERENCIA: Sanciones y licencias: desafíos para la industria petrolera nacional
DESCRIPTION:Les invitamos a la conferencia «Sanciones y licencias: desafíos para la industria petrolera nacional»\, que impartirá Germán José Márquez Gil (profesor universitario y especialista en petróleo)\, el miércoles 4 de febrero de 2026 a las 4 pm.\nLes esperamos.
URL:https://cedesve.com/event/cine-homenaje-a-donald-myerston-2/
ATTACH;FMTTYPE=image/jpeg:https://cedesve.com/wp-content/uploads/2026/02/WhatsApp-Image-2026-01-31-at-6.26.44-PM-1.jpeg
END:VEVENT
BEGIN:VEVENT
DTSTART;TZID=UTC:20260130T160000
DTEND;TZID=UTC:20260130T180000
DTSTAMP:20260423T160436
CREATED:20260128T210153Z
LAST-MODIFIED:20260128T210153Z
UID:6683-1769788800-1769796000@cedesve.com
SUMMARY:#CINE: Homenaje a Donald Myerston
DESCRIPTION:Cine conversa «Homenaje a Donald Myerston» \nLes invitamos a la proyección de «Renovación» (1969\, 40 min.)\, de Donald Myerston y Fernando Toro\, este viernes 30 de enero de 2026 a las 4 pm. \nTras la proyección\, estaremos conversando con Karla Myerston. \nLa entrada es libre. Les esperamos
URL:https://cedesve.com/event/cine-homenaje-a-donald-myerston/
ATTACH;FMTTYPE=image/jpeg:https://cedesve.com/wp-content/uploads/2026/01/WhatsApp-Image-2026-01-28-at-2.09.11-PM.jpeg
END:VEVENT
BEGIN:VEVENT
DTSTART;TZID=UTC:20260129T160000
DTEND;TZID=UTC:20260129T180000
DTSTAMP:20260423T160436
CREATED:20260126T184002Z
LAST-MODIFIED:20260126T184002Z
UID:6640-1769702400-1769709600@cedesve.com
SUMMARY:#Conferencia: La defensa de la República como punto de encuentro
DESCRIPTION:Este jueves 29 de enero de 2026 a las 4 pm continuamos con el ciclo de conferencias «La defensa de la República como punto de encuentro». \nConferencistas:\n– María Verdeal\, Vicepresidenta del Movimiento al Socialismo.\n– Mercedes Malavé\, Comunicadora social y dirigente política. \nModerador:\n– Elías Jaua Milano\, Presidente del Centro de Estudios para la Democracia Socialista. \nLes esperamos.
URL:https://cedesve.com/event/conferencia-la-defensa-de-la-republica-como-punto-de-encuentro-2/
ATTACH;FMTTYPE=image/jpeg:https://cedesve.com/wp-content/uploads/2026/01/WhatsApp-Image-2026-01-26-at-11.28.17-AM.jpeg
END:VEVENT
BEGIN:VEVENT
DTSTART;TZID=UTC:20260128T160000
DTEND;TZID=UTC:20260128T180000
DTSTAMP:20260423T160436
CREATED:20260122T000006Z
LAST-MODIFIED:20260122T041832Z
UID:6514-1769616000-1769623200@cedesve.com
SUMMARY:#Conferencia: Venezuela: ¿botín petrolero?
DESCRIPTION:Les invitamos a la conferencia «Venezuela: ¿botín petrolero?»\, que impartirá el maestro Carlos Mendoza Pottellá el miércoles 28 de enero de 2026 a las 4 pm.\nLes esperamos.
URL:https://cedesve.com/event/simon-bolivar-de-miguel-contreras-torres-2/
ATTACH;FMTTYPE=image/jpeg:https://cedesve.com/wp-content/uploads/2026/01/WhatsApp-Image-2026-01-21-at-10.14.44-PM-1.jpeg
END:VEVENT
BEGIN:VEVENT
DTSTART;TZID=UTC:20260122T160000
DTEND;TZID=UTC:20260122T180000
DTSTAMP:20260423T160436
CREATED:20260122T042232Z
LAST-MODIFIED:20260122T042452Z
UID:6518-1769097600-1769104800@cedesve.com
SUMMARY:#Conferencia: La defensa de la República como punto de encuentro
DESCRIPTION:Reiniciamos nuestra actividad pública con la conferencia «La defensa de la República como punto de encuentro». \nPonentes:\n– Elías Jaua Milano\, Presidente del Centro de Estudios para la Democracia Socialista.\n– Eduardo Sánchez\, Presidente del Sindicato Nacional de Trabajadores de la Universidad Central de Venezuela y Presidente de la Federación Nacional de Trabajadores Universitarios.\n– Neirlay Andrade\, integrante del Buró Político del Comité Central del Partido Comunista de Venezuela. \nJueves 22 de enero de 2026 a las 4 pm.
URL:https://cedesve.com/event/conferencia-la-defensa-de-la-republica-como-punto-de-encuentro/
ATTACH;FMTTYPE=image/jpeg:https://cedesve.com/wp-content/uploads/2026/01/WhatsApp-Image-2026-01-21-at-10.14.44-PM.jpeg
END:VEVENT
BEGIN:VEVENT
DTSTART;TZID=UTC:20251215T160000
DTEND;TZID=UTC:20251215T180000
DTSTAMP:20260423T160436
CREATED:20251212T055724Z
LAST-MODIFIED:20251212T060111Z
UID:6090-1765814400-1765821600@cedesve.com
SUMMARY:Simón Bolívar de Miguel Contreras Torres
DESCRIPTION:#CINE: Simón Bolívar (1942)\, de Miguel Contreras Torres
URL:https://cedesve.com/event/simon-bolivar-de-miguel-contreras-torres/
ATTACH;FMTTYPE=image/jpeg:https://cedesve.com/wp-content/uploads/2025/12/simon-bolivar.jpeg
END:VEVENT
BEGIN:VEVENT
DTSTART;TZID=UTC:20251205T160000
DTEND;TZID=UTC:20251205T180000
DTSTAMP:20260423T160436
CREATED:20251207T181112Z
LAST-MODIFIED:20251207T181112Z
UID:5969-1764950400-1764957600@cedesve.com
SUMMARY:7 días de enero
DESCRIPTION:Les invitamos a la proyección de «7 días de enero»\, de Juan Antonio Bardem (1979\, 128 min.)\, este sábado 5 de diciembre de 2025 a las 4 pm.\nA 50 años de la muerte del dictador Francisco Franco.\nTras la proyección\, conversa con Alejandro Fierro. \nEntrada libre
URL:https://cedesve.com/event/7-dias-de-enero/
ATTACH;FMTTYPE=image/jpeg:https://cedesve.com/wp-content/uploads/2025/12/WhatsApp-Image-2025-12-04-at-7.19.35-PM-1.jpeg
END:VEVENT
BEGIN:VEVENT
DTSTART;TZID=UTC:20251121T150000
DTEND;TZID=UTC:20251121T170000
DTSTAMP:20260423T160436
CREATED:20251121T005109Z
LAST-MODIFIED:20251121T005109Z
UID:5744-1763737200-1763744400@cedesve.com
SUMMARY:La agresión militar contra Venezuela
DESCRIPTION:¡En Bolívar nos vemos! \nLes invitamos a la conferencia «La agresión militar contra Venezuela. Contexto geopolítico»\, por Elías Jaua Milano\, este viernes 21 de noviembre de 2025 a las 3 pm en el Centro de Formación Guayana. \nDirección: Urbanización Moreno de Mendoza\, calle Urdaneta. San Félix\, Bolívar. A una cuadra del Liceo Bicentenario \nLes esperamos
URL:https://cedesve.com/event/la-agresion-militar-contra-venezuela/
ATTACH;FMTTYPE=image/jpeg:https://cedesve.com/wp-content/uploads/2025/11/WhatsApp-Image-2025-11-20-at-5.00.13-PM-3.jpeg
END:VEVENT
BEGIN:VEVENT
DTSTART;TZID=UTC:20251121T100000
DTEND;TZID=UTC:20251121T120000
DTSTAMP:20260423T160436
CREATED:20251121T005427Z
LAST-MODIFIED:20251121T005427Z
UID:5748-1763719200-1763726400@cedesve.com
SUMMARY:Soberanía alimentaria en Venezuela\, agroecología y poder popular
DESCRIPTION:¡En Bolívar nos vemos! \nLes invitamos a la conferencia «Soberanía alimentaria en Venezuela\, agroecología y poder popular»\, por Jorgelina Murúa\, este viernes 21 de noviembre de 2025 a las 10 am en el Centro de Formación Guayana.\nCiclo «Investigaciones en curso». \nDirección: Urbanización Moreno de Mendoza\, calle Urdaneta. San Félix\, Bolívar. A una cuadra del Liceo Bicentenario \nLes esperamos
URL:https://cedesve.com/event/la-agresion-militar-contra-venezuela-2/
ATTACH;FMTTYPE=image/jpeg:https://cedesve.com/wp-content/uploads/2025/11/WhatsApp-Image-2025-11-20-at-5.00.13-PM-2.jpeg
END:VEVENT
BEGIN:VEVENT
DTSTART;TZID=UTC:20251120T150000
DTEND;TZID=UTC:20251120T170000
DTSTAMP:20260423T160436
CREATED:20251119T160145Z
LAST-MODIFIED:20251119T160145Z
UID:5685-1763650800-1763658000@cedesve.com
SUMMARY:David Hernández Oduber: su legado para la construcción de un socialismo a lo venezolano
DESCRIPTION:¡En Bolívar nos vemos! \nLes invitamos a la conferencia «David Hernández Oduber: su legado para la construcción de un socialismo a lo venezolano»\, por Servaes Scheifes\, este jueves 20 de noviembre de 2025 a las 3 pm en el Centro de Formación Guayana.\nSeminario permanente Tradición del pensamiento socialista en Venezuela. \nDirección: Urbanización Moreno de Mendoza\, calle Urdaneta. San Félix\, Bolívar. A una cuadra del Liceo Bicentenario \nLes esperamos.
URL:https://cedesve.com/event/david-hernandez-oduber-su-legado-para-la-construccion-de-un-socialismo-a-lo-venezolano/
ATTACH;FMTTYPE=image/jpeg:https://cedesve.com/wp-content/uploads/2025/11/WhatsApp-Image-2025-11-18-at-2.36.05-PM-1.jpeg
END:VEVENT
BEGIN:VEVENT
DTSTART;TZID=UTC:20251120T100000
DTEND;TZID=UTC:20251120T120000
DTSTAMP:20260423T160436
CREATED:20251119T160456Z
LAST-MODIFIED:20251119T160456Z
UID:5689-1763632800-1763640000@cedesve.com
SUMMARY:El periodismo venezolano y el proceso de mutación de la cultura comunicacional
DESCRIPTION:¡En Bolívar nos vemos! \nLes invitamos a la conferencia «El periodismo venezolano y el proceso de mutación de la cultura comunicacional»\, por el periodista y escritor David Medina\, este jueves 20 de noviembre de 2025 a las 10 am en el Centro de Formación Guayana. \nDirección: Urbanización Moreno de Mendoza\, calle Urdaneta. San Félix\, Bolívar. A una cuadra del Liceo Bicentenario \nLes esperamos
URL:https://cedesve.com/event/david-hernandez-oduber-su-legado-para-la-construccion-de-un-socialismo-a-lo-venezolano-2/
ATTACH;FMTTYPE=image/jpeg:https://cedesve.com/wp-content/uploads/2025/11/WhatsApp-Image-2025-11-18-at-2.36.05-PM.jpeg
END:VEVENT
BEGIN:VEVENT
DTSTART;TZID=UTC:20251118T160000
DTEND;TZID=UTC:20251118T180000
DTSTAMP:20260423T160436
CREATED:20251114T011439Z
LAST-MODIFIED:20251114T011439Z
UID:5626-1763481600-1763488800@cedesve.com
SUMMARY:50 años de la Operación Carlota: epopeya del internacionalismo cubano
DESCRIPTION:Les invitamos a la conversa virtual «50 años de la Operación Carlota: epopeya del internacionalismo cubano»\, con Piero Gleijeses\, autor de la obra clásica «Misiones en conflicto. La Habana\, Washington y África. 1959-1976»\, y Dayron Roque Lazo\, Doctor en Educación y miembro editorial de La Tizza.\nMartes 18 de noviembre de 2025 a las 4 pm.
URL:https://cedesve.com/event/bad-bunny-en-las-entranas-del-monstruo-2-2/
ATTACH;FMTTYPE=image/jpeg:https://cedesve.com/wp-content/uploads/2025/11/WhatsApp-Image-2025-11-12-at-4.09.04-PM.jpeg
END:VEVENT
BEGIN:VEVENT
DTSTART;TZID=UTC:20251117T160000
DTEND;TZID=UTC:20251117T180000
DTSTAMP:20260423T160436
CREATED:20251112T193017Z
LAST-MODIFIED:20251112T193017Z
UID:5611-1763395200-1763402400@cedesve.com
SUMMARY:#CONFERENCIA: Juan Bautista Fuenmayor
DESCRIPTION:Les invitamos a la conferencia «Juan Bautista Fuenmayor y la interpretación marxista del siglo XX venezolano»\, por Marcos Fuenmayor Contreras\, este lunes 17 de noviembre de 2025 a las 4 pm.\nSeminario permanente «Tradición del pensamiento socialista en Venezuela».
URL:https://cedesve.com/event/bad-bunny-en-las-entranas-del-monstruo-2/
ATTACH;FMTTYPE=image/jpeg:https://cedesve.com/wp-content/uploads/2025/11/WhatsApp-Image-2025-11-12-at-12.12.39-PM.jpeg
END:VEVENT
BEGIN:VEVENT
DTSTART;TZID=UTC:20251114T160000
DTEND;TZID=UTC:20251114T180000
DTSTAMP:20260423T160436
CREATED:20251108T023258Z
LAST-MODIFIED:20251108T023258Z
UID:5535-1763136000-1763143200@cedesve.com
SUMMARY:Bad Bunny en las entrañas del monstruo
DESCRIPTION:Les invitamos al conversatorio «Bad Bunny en las entrañas del monstruo»\, con Brianna Alvarado Ramos y Jocelyn Velázquez Rodríguez\, militantes de la «Jornada Se acabaron las promesas»\, colectivo que lucha por la independencia de Puerto Rico y en contra del régimen colonial\, el imperialismo y el neoliberalismo; y Sandra Iturriza y Rome Arrieche\, por Venezuela.\nViernes 14 de noviembre de 2025 a las 4 pm.
URL:https://cedesve.com/event/bad-bunny-en-las-entranas-del-monstruo/
ATTACH;FMTTYPE=image/jpeg:https://cedesve.com/wp-content/uploads/2025/11/WhatsApp-Image-2025-11-07-at-8.29.21-PM.jpeg
END:VEVENT
BEGIN:VEVENT
DTSTART;TZID=UTC:20251113T160000
DTEND;TZID=UTC:20251113T180000
DTSTAMP:20260423T160436
CREATED:20251108T022835Z
LAST-MODIFIED:20251108T022835Z
UID:5531-1763049600-1763056800@cedesve.com
SUMMARY:Juan Rulfo y la fotografía
DESCRIPTION:¿Sabía usted que el maestro Juan Rulfo fue también un extraordinario fotógrafo?\nLes invitamos a la conferencia «Juan Rulfo y la fotografía»\, con Ismael Hernández\, Agregado Cultural de la Embajada de México en Venezuela\, y Giuliano Salvatore\, fotógrafo y documentalista\, este jueves 13 de noviembre de 2025 a las 4 pm.\nCelebrando los 70 años de la publicación de «Pedro Páramo».
URL:https://cedesve.com/event/juan-rulfo-y-la-fotografia/
ATTACH;FMTTYPE=image/jpeg:https://cedesve.com/wp-content/uploads/2025/11/WhatsApp-Image-2025-11-07-at-8.29.20-PM.jpeg
END:VEVENT
BEGIN:VEVENT
DTSTART;TZID=UTC:20251108T160000
DTEND;TZID=UTC:20251108T180000
DTSTAMP:20260423T160436
CREATED:20251112T192559Z
LAST-MODIFIED:20251112T192559Z
UID:5607-1762617600-1762624800@cedesve.com
SUMMARY:#CINE: Mamá Roma
DESCRIPTION:Ciclo de cine «Pier Paolo Pasolini. 50 años después».\nLes invitamos a la proyección de «Mamá Roma» (Mamma Roma) (1962\, 106 min.)\, este sábado 8 de noviembre de 2025 a las 4 pm.\nLa entrada es libre
URL:https://cedesve.com/event/cine-mama-roma/
ATTACH;FMTTYPE=image/jpeg:https://cedesve.com/wp-content/uploads/2025/11/WhatsApp-Image-2025-11-12-at-12.12.39-PM-1.jpeg
END:VEVENT
BEGIN:VEVENT
DTSTART;TZID=UTC:20251105T110000
DTEND;TZID=UTC:20251105T130000
DTSTAMP:20260423T160436
CREATED:20251028T022621Z
LAST-MODIFIED:20251028T022621Z
UID:5425-1762340400-1762347600@cedesve.com
SUMMARY:#CURSO: Entre la realidad y la utopía concreta
DESCRIPTION: Curso presencial/ En línea. Entre la realidad y la utopía concreta: Un recorrido por el documental político venezolano. \nImparte: Manuel Azuaje Reverón\nFecha: 05 de noviembre  al 3  de diciembre de 2025\nDuración: Cinco sesiones\nLink: https://cedesve.com/wp-content/uploads/2025/10/Un-recorrido-por-el-documental-politico-venezolano.-Plan-del-curso-2.pdf
URL:https://cedesve.com/event/curso-entre-la-realidad-y-la-utopia-concreta/
ATTACH;FMTTYPE=image/jpeg:https://cedesve.com/wp-content/uploads/2025/10/WhatsApp-Image-2025-10-08-at-7.53.24-PM.jpeg
END:VEVENT
BEGIN:VEVENT
DTSTART;TZID=UTC:20251104T160000
DTEND;TZID=UTC:20251104T180000
DTSTAMP:20260423T160436
CREATED:20251102T221301Z
LAST-MODIFIED:20251102T221301Z
UID:5480-1762272000-1762279200@cedesve.com
SUMMARY:#CINE: Accattone
DESCRIPTION:Ciclo de cine «Pier Paolo Pasolini. 50 años después». \nLes invitamos a la proyección de «Accattone» (1961\, 120 min.)\, este sábado 1 de noviembre de 2025 a las 4 pm. \nLa entrada es libre
URL:https://cedesve.com/event/cine-accattone/
ATTACH;FMTTYPE=image/jpeg:https://cedesve.com/wp-content/uploads/2025/11/WhatsApp-Image-2025-11-01-at-12.28.57-PM.jpeg
END:VEVENT
BEGIN:VEVENT
DTSTART;TZID=UTC:20251031T150000
DTEND;TZID=UTC:20251031T170000
DTSTAMP:20260423T160436
CREATED:20251028T032336Z
LAST-MODIFIED:20251028T032336Z
UID:5424-1761922800-1761930000@cedesve.com
SUMMARY:Isaías Rodríguez: con la clase trabajadora siempre
DESCRIPTION:Les invitamos a una nueva jornada de nuestro Seminario permanente Tradición del pensamiento socialista en Venezuela: «Isaías Rodríguez: con la clase trabajadora siempre»\, con Leonardo Rodríguez Rojas\, Óscar Feo\, Eva Nistal y Elías Jaua Milano\, este viernes 31 de octubre de 2025 a las 3 pm. \nDirección: Escuela de Formación Obrera Priscila López. Calle Negro Primero\, casa número 98. Frente al Liceo Valentín Espinal. Maracay\, estado Aragua. \nLes esperamos
URL:https://cedesve.com/event/isaias-rodriguez-con-la-clase-trabajadora-siempre/
ATTACH;FMTTYPE=image/jpeg:https://cedesve.com/wp-content/uploads/2025/10/WhatsApp-Image-2025-10-27-at-9.27.51-PM-1.jpeg
END:VEVENT
BEGIN:VEVENT
DTSTART;TZID=UTC:20251031T100000
DTEND;TZID=UTC:20251031T120000
DTSTAMP:20260423T160436
CREATED:20251029T173608Z
LAST-MODIFIED:20251029T173614Z
UID:5466-1761904800-1761912000@cedesve.com
SUMMARY:Homenaje a Richard López Plaz
DESCRIPTION:Les invitamos a acompañarnos este viernes 31 de octubre de 2025\, a partir de las 10 am\, en la Universidad Central de Venezuela Campus Maracay. \nAgenda: \n– Develación del busto de Richard López Plaz\, recuperado por el escultor Édgar Salas.\n– Presentación del grupo musical Los Guaraguao.\n– Conversatorio «Desafíos actuales del movimiento estudiantil venezolano». \n¡En Aragua nos vemos!
URL:https://cedesve.com/event/homenaje-a-richard-lopez-plaz/
ATTACH;FMTTYPE=image/jpeg:https://cedesve.com/wp-content/uploads/2025/10/WhatsApp-Image-2025-10-28-at-7.16.38-PM.jpeg
END:VEVENT
BEGIN:VEVENT
DTSTART;TZID=UTC:20251030T160000
DTEND;TZID=UTC:20251030T180000
DTSTAMP:20260423T160436
CREATED:20251028T015519Z
LAST-MODIFIED:20251028T015526Z
UID:5415-1761840000-1761847200@cedesve.com
SUMMARY:Otilio Galíndez: Vida y obra
DESCRIPTION:Les invitamos a una nueva jornada de nuestro Seminario permanente Tradición de pensamiento Lo afirmativo nacional: «Otilio Galíndez: vida y obra»\, con el actor Simón Áñez\, el poeta Pedro Ruiz\, el maestro José Jesús Guevara\, el artista plástico Antonio Cabezas\, la cantautora Yadira Pirela y la cantora Camila Rada\, este jueves 30 de octubre de 2025 a las 4 pm. \nDirección: Café Cultural Caramba. Parque de Ferias San Jacinto. Maracay\, estado Aragua. \nLes esperamos
URL:https://cedesve.com/event/otilio-galindez-vida-y-obra/
ATTACH;FMTTYPE=image/jpeg:https://cedesve.com/wp-content/uploads/2025/10/WhatsApp-Image-2025-10-24-at-7.43.06-PM-1.jpeg
END:VEVENT
BEGIN:VEVENT
DTSTART;TZID=UTC:20251030T100000
DTEND;TZID=UTC:20251030T120000
DTSTAMP:20260423T160436
CREATED:20251028T020853Z
LAST-MODIFIED:20251028T020853Z
UID:5420-1761818400-1761825600@cedesve.com
SUMMARY:#Conferencia: La agresión militar contra Venezuela
DESCRIPTION:Les invitamos a la conferencia «La agresión militar contra Venezuela. Contexto geopolítico»\, por Elías Jaua Milano\, este jueves 30 de octubre de 2025 a las 10 am. \nDirección: Escuela de Formación Obrera Priscila López. Calle Negro Primero\, casa número 98. Frente al Liceo Valentín Espinal. Maracay\, estado Aragua. \nLes esperamos
URL:https://cedesve.com/event/conferencia-la-agresion-militar-contra-venezuela/
ATTACH;FMTTYPE=image/jpeg:https://cedesve.com/wp-content/uploads/2025/10/WhatsApp-Image-2025-10-24-at-7.43.05-PM.jpeg
END:VEVENT
END:VCALENDAR